BEGIN:VCALENDAR
PRODID:-
VERSION:2.0
BEGIN:VEVENT
DTSTART;VALUE=DATE:20260605
LOCATION:TEAMS
DTSTAMP:20260421T012214Z
SEQUENCE:0
SUMMARY:ASC Online College: On-site session
UID:16967@alsiraatcollege
END:VEVENT
END:VCALENDAR
