BEGIN:VCALENDAR
PRODID:-
VERSION:2.0
BEGIN:VEVENT
DTSTART;VALUE=DATE:20260619
LOCATION:TEAMS
DTSTAMP:20260421T012419Z
SEQUENCE:0
SUMMARY:ASC Online College: On-site session
UID:16968@alsiraatcollege
END:VEVENT
END:VCALENDAR
