BEGIN:VCALENDAR
PRODID:-
VERSION:2.0
BEGIN:VEVENT
DTSTART;VALUE=DATE:20260522
LOCATION:TEAMS
DTSTAMP:20260420T234437Z
SEQUENCE:0
SUMMARY:ASC Online College: On-site session
UID:16969@alsiraatcollege
END:VEVENT
END:VCALENDAR
