BEGIN:VCALENDAR
PRODID:-
VERSION:2.0
BEGIN:VEVENT
DTSTART;VALUE=DATE:20260220
LOCATION:Auditorium
DTSTAMP:20260420T234437Z
SEQUENCE:0
SUMMARY:Parent Information Session: Public Bus Route Changes
UID:16970@alsiraatcollege
END:VEVENT
END:VCALENDAR
