BEGIN:VCALENDAR
PRODID:-
VERSION:2.0
BEGIN:VEVENT
DTSTART;VALUE=DATE:20260220
LOCATION:Auditorium
DTSTAMP:20260420T234336Z
SEQUENCE:0
SUMMARY:2025 Dux and Awards Assembly
UID:16971@alsiraatcollege
END:VEVENT
END:VCALENDAR
