BEGIN:VCALENDAR
PRODID:-
VERSION:2.0
BEGIN:VEVENT
DTSTART;VALUE=DATE:20260507
LOCATION:Auditorium
DTSTAMP:20260420T234239Z
SEQUENCE:0
SUMMARY:VCE Community Services Students: CPR Refresher
UID:16973@alsiraatcollege
END:VEVENT
END:VCALENDAR
