BEGIN:VCALENDAR
PRODID:-
VERSION:2.0
BEGIN:VEVENT
DTSTART;VALUE=DATE:20260421
LOCATION:Auditorium
DTSTAMP:20260420T215027Z
SEQUENCE:0
SUMMARY:VCE Sports & Rec Students: First Aid Training
UID:16974@alsiraatcollege
END:VEVENT
END:VCALENDAR
