BEGIN:VCALENDAR
PRODID:-
VERSION:2.0
BEGIN:VEVENT
DTSTART;VALUE=DATE:20260530
DTSTAMP:20260420T234319Z
SEQUENCE:0
SUMMARY:Al Siraat Eid Festival
UID:16975@alsiraatcollege
END:VEVENT
END:VCALENDAR
