BEGIN:VCALENDAR
PRODID:-
VERSION:2.0
BEGIN:VEVENT
DTSTART;VALUE=DATE:20260226
DTSTAMP:20260419T181240Z
SEQUENCE:0
SUMMARY:Year 9/10 Girls: ISSAV Basketball
UID:16976@alsiraatcollege
END:VEVENT
END:VCALENDAR
