BEGIN:VCALENDAR
PRODID:-
VERSION:2.0
BEGIN:VEVENT
DTSTART;VALUE=DATE:20260323
DTSTAMP:20260420T214920Z
SEQUENCE:0
SUMMARY:Spirit of Giving – Fundraising Bake Sale
UID:16977@alsiraatcollege
END:VEVENT
END:VCALENDAR
