BEGIN:VCALENDAR
PRODID:-
VERSION:2.0
BEGIN:VEVENT
DTSTART;VALUE=DATE:20260427
DTSTAMP:20260420T215123Z
SEQUENCE:0
SUMMARY:Spirit of Giving – Fundraising Bake Sale
UID:16978@alsiraatcollege
END:VEVENT
END:VCALENDAR
