BEGIN:VCALENDAR
PRODID:-
VERSION:2.0
BEGIN:VEVENT
DTSTART;VALUE=DATE:20260511
DTSTAMP:20260420T234239Z
SEQUENCE:0
SUMMARY:Spirit of Giving – Fundraising Bake Sale
UID:16979@alsiraatcollege
END:VEVENT
END:VCALENDAR
