BEGIN:VCALENDAR
PRODID:-
VERSION:2.0
BEGIN:VEVENT
DTSTART;VALUE=DATE:20260525
DTSTAMP:20260420T234319Z
SEQUENCE:0
SUMMARY:Spirit of Giving – Fundraising Bake Sale
UID:16980@alsiraatcollege
END:VEVENT
END:VCALENDAR
