BEGIN:VCALENDAR
PRODID:-
VERSION:2.0
BEGIN:VEVENT
DTSTART;VALUE=DATE:20260304
DTSTAMP:20260420T215140Z
SEQUENCE:0
SUMMARY:Secondary Girls Iftar
UID:16983@alsiraatcollege
END:VEVENT
END:VCALENDAR
