BEGIN:VCALENDAR
PRODID:-
VERSION:2.0
BEGIN:VEVENT
DTSTART;VALUE=DATE:20260225
DTSTAMP:20260419T181116Z
SEQUENCE:0
SUMMARY:Year 8: Business and Economics Incursion
UID:16986@alsiraatcollege
END:VEVENT
END:VCALENDAR
