BEGIN:VCALENDAR
PRODID:-
VERSION:2.0
BEGIN:VEVENT
DTSTART;VALUE=DATE:20260325
DTSTAMP:20260420T215129Z
SEQUENCE:0
SUMMARY:Year 9/10 Girls: SSV Volleyball
UID:16990@alsiraatcollege
END:VEVENT
END:VCALENDAR
