BEGIN:VCALENDAR
PRODID:-
VERSION:2.0
BEGIN:VEVENT
DTSTART;VALUE=DATE:20260521
LOCATION:D4
DTSTAMP:20260420T215217Z
SEQUENCE:0
SUMMARY:Noor of Guidance – Women's Program
UID:17001@alsiraatcollege
END:VEVENT
END:VCALENDAR
