BEGIN:VCALENDAR
PRODID:-
VERSION:2.0
BEGIN:VEVENT
DTSTART;VALUE=DATE:20260601
LOCATION:D4
DTSTAMP:20260421T011748Z
SEQUENCE:0
SUMMARY:Noor of Guidance – Women's Program
UID:17002@alsiraatcollege
END:VEVENT
END:VCALENDAR
