BEGIN:VCALENDAR
PRODID:-
VERSION:2.0
BEGIN:VEVENT
DTSTART;VALUE=DATE:20260611
LOCATION:D4
DTSTAMP:20260421T012823Z
SEQUENCE:0
SUMMARY:Noor of Guidance – Women's Program
UID:17005@alsiraatcollege
END:VEVENT
END:VCALENDAR
