BEGIN:VCALENDAR
PRODID:-
VERSION:2.0
BEGIN:VEVENT
DTSTART;VALUE=DATE:20260618
LOCATION:D4
DTSTAMP:20260421T011614Z
SEQUENCE:0
SUMMARY:Noor of Guidance – Women's Program
UID:17007@alsiraatcollege
END:VEVENT
END:VCALENDAR
