BEGIN:VCALENDAR
PRODID:-
VERSION:2.0
BEGIN:VEVENT
DTSTART;VALUE=DATE:20260427
DTSTAMP:20260420T214915Z
SEQUENCE:0
SUMMARY:Afterschool Primary Basketball Program
UID:17075@alsiraatcollege
END:VEVENT
END:VCALENDAR
