BEGIN:VCALENDAR
PRODID:-
VERSION:2.0
BEGIN:VEVENT
DTSTART;VALUE=DATE:20260504
DTSTAMP:20260420T234151Z
SEQUENCE:0
SUMMARY:Afterschool Primary Basketball Program
UID:17076@alsiraatcollege
END:VEVENT
END:VCALENDAR
