BEGIN:VCALENDAR
PRODID:-
VERSION:2.0
BEGIN:VEVENT
DTSTART;VALUE=DATE:20260511
DTSTAMP:20260420T234023Z
SEQUENCE:0
SUMMARY:Afterschool Primary Basketball Program
UID:17077@alsiraatcollege
END:VEVENT
END:VCALENDAR
