BEGIN:VCALENDAR
PRODID:-
VERSION:2.0
BEGIN:VEVENT
DTSTART;VALUE=DATE:20260518
DTSTAMP:20260420T234151Z
SEQUENCE:0
SUMMARY:Afterschool Primary Basketball Program
UID:17078@alsiraatcollege
END:VEVENT
END:VCALENDAR
