BEGIN:VCALENDAR
PRODID:-
VERSION:2.0
BEGIN:VEVENT
DTSTART;VALUE=DATE:20260528
DTSTAMP:20260420T233941Z
SEQUENCE:0
SUMMARY:Afterschool Primary Basketball Program
UID:17079@alsiraatcollege
END:VEVENT
END:VCALENDAR
