BEGIN:VCALENDAR
PRODID:-
VERSION:2.0
BEGIN:VEVENT
DTSTART;VALUE=DATE:20260601
DTSTAMP:20260421T011910Z
SEQUENCE:0
SUMMARY:Afterschool Primary Basketball Program
UID:17080@alsiraatcollege
END:VEVENT
END:VCALENDAR
