BEGIN:VCALENDAR
PRODID:-
VERSION:2.0
BEGIN:VEVENT
DTSTART;VALUE=DATE:20260608
DTSTAMP:20260421T012823Z
SEQUENCE:0
SUMMARY:Afterschool Primary Basketball Program
UID:17081@alsiraatcollege
END:VEVENT
END:VCALENDAR
