BEGIN:VCALENDAR
PRODID:-
VERSION:2.0
BEGIN:VEVENT
DTSTART;VALUE=DATE:20260504
DTSTAMP:20260422T101256Z
SEQUENCE:0
SUMMARY:Year 9 B1/B2 Excursion: Whittlesea Tech School – Design Thinking
UID:17082@alsiraatcollege
END:VEVENT
END:VCALENDAR
