BEGIN:VCALENDAR
PRODID:-
VERSION:2.0
BEGIN:VEVENT
DTSTART;VALUE=DATE:20260722
DTSTAMP:20260422T095028Z
SEQUENCE:0
SUMMARY:Year 7 Incursion: Aboriginal Indigenous infusion
UID:17083@alsiraatcollege
END:VEVENT
END:VCALENDAR
