BEGIN:VCALENDAR
PRODID:-
VERSION:2.0
BEGIN:VEVENT
DTSTART;VALUE=DATE:20260507
DTSTAMP:20260422T102029Z
SEQUENCE:0
SUMMARY:Year 9 G3/G4 Excursion: Whittlesea Tech School – Design Thinking
UID:17084@alsiraatcollege
END:VEVENT
END:VCALENDAR
