BEGIN:VCALENDAR
PRODID:-
VERSION:2.0
BEGIN:VEVENT
DTSTART;VALUE=DATE:20260511
DTSTAMP:20260422T101748Z
SEQUENCE:0
SUMMARY:Year 9 LEAP Excursion: Whittlesea Tech School – Design Thinking
UID:17085@alsiraatcollege
END:VEVENT
END:VCALENDAR
