BEGIN:VCALENDAR
PRODID:-
VERSION:2.0
BEGIN:VEVENT
DTSTART;TZID=Australia/Melbourne:20260525T000000Z
DTEND;TZID=Australia/Melbourne:20260526T000000Z
TRANSP:OPAQUE
DTSTAMP:20260425T032750Z
SEQUENCE:0
SUMMARY:Year 5 Science Incursion: Weathering
UID:17086@alsiraatcollege
END:VEVENT
END:VCALENDAR
