BEGIN:VCALENDAR
PRODID:-
VERSION:2.0
BEGIN:VEVENT
DTSTART;VALUE=DATE:20260625
DTSTAMP:20260425T101633Z
SEQUENCE:0
SUMMARY:Year 7/8 Girls: Merri-bek Division Sport
UID:17087@alsiraatcollege
END:VEVENT
END:VCALENDAR
