BEGIN:VCALENDAR
PRODID:-
VERSION:2.0
BEGIN:VEVENT
DTSTART;VALUE=DATE:20260508
DTSTAMP:20260424T122601Z
SEQUENCE:0
SUMMARY:Years 4-6: ISS Tournament
UID:17092@alsiraatcollege
END:VEVENT
END:VCALENDAR
