BEGIN:VCALENDAR
PRODID:-
VERSION:2.0
BEGIN:VEVENT
DTSTART;VALUE=DATE:20260525
DTSTAMP:20260422T101824Z
SEQUENCE:0
SUMMARY:Year 9/10: IB Soccer
UID:17094@alsiraatcollege
END:VEVENT
END:VCALENDAR
