BEGIN:VCALENDAR
PRODID:-
VERSION:2.0
BEGIN:VEVENT
DTSTART;VALUE=DATE:20260513
DTSTAMP:20260424T214504Z
SEQUENCE:0
SUMMARY:Year 2 Art & Tech Incursion: Beebots
UID:17095@alsiraatcollege
END:VEVENT
END:VCALENDAR
